BEGIN:VCALENDAR
VERSION:2.0
PRODID:-//TEXPOSITION® - ECPv6.15.20//NONSGML v1.0//EN
CALSCALE:GREGORIAN
METHOD:PUBLISH
X-ORIGINAL-URL:https://texposition.org
X-WR-CALDESC:Events for TEXPOSITION®
REFRESH-INTERVAL;VALUE=DURATION:PT1H
X-Robots-Tag:noindex
X-PUBLISHED-TTL:PT1H
BEGIN:VTIMEZONE
TZID:America/New_York
BEGIN:DAYLIGHT
TZOFFSETFROM:-0500
TZOFFSETTO:-0400
TZNAME:EDT
DTSTART:20250309T070000
END:DAYLIGHT
BEGIN:STANDARD
TZOFFSETFROM:-0400
TZOFFSETTO:-0500
TZNAME:EST
DTSTART:20251102T060000
END:STANDARD
BEGIN:DAYLIGHT
TZOFFSETFROM:-0500
TZOFFSETTO:-0400
TZNAME:EDT
DTSTART:20260308T070000
END:DAYLIGHT
BEGIN:STANDARD
TZOFFSETFROM:-0400
TZOFFSETTO:-0500
TZNAME:EST
DTSTART:20261101T060000
END:STANDARD
BEGIN:DAYLIGHT
TZOFFSETFROM:-0500
TZOFFSETTO:-0400
TZNAME:EDT
DTSTART:20270314T070000
END:DAYLIGHT
BEGIN:STANDARD
TZOFFSETFROM:-0400
TZOFFSETTO:-0500
TZNAME:EST
DTSTART:20271107T060000
END:STANDARD
END:VTIMEZONE
BEGIN:VEVENT
DTSTART;VALUE=DATE:20260703
DTEND;VALUE=DATE:20260704
DTSTAMP:20260423T160236
CREATED:20230420T094243Z
LAST-MODIFIED:20230420T094354Z
UID:10000429-1783036800-1783123199@texposition.org
SUMMARY:Clothing
DESCRIPTION:A Fashion Passion every Friday
URL:https://texposition.org/event/clothing/2026-07-03/
ATTACH;FMTTYPE=image/jpeg:https://texposition.org/wp-content/uploads/2023/04/Scan-2-2a20fcd-scaled.jpeg
END:VEVENT
BEGIN:VEVENT
DTSTART;VALUE=DATE:20260704
DTEND;VALUE=DATE:20260705
DTSTAMP:20260423T160236
CREATED:20230420T093835Z
LAST-MODIFIED:20230420T094208Z
UID:10000168-1783123200-1783209599@texposition.org
SUMMARY:Robot Rodeo
DESCRIPTION:Check out the Robot Rodeo every Saturday.
URL:https://texposition.org/event/robot-rodeo/2026-07-04/
ATTACH;FMTTYPE=image/png:https://texposition.org/wp-content/uploads/2022/09/ROBOT-RODEO_text-01-d457ab6.png
END:VEVENT
BEGIN:VEVENT
DTSTART;VALUE=DATE:20260710
DTEND;VALUE=DATE:20260711
DTSTAMP:20260423T160236
CREATED:20230420T094243Z
LAST-MODIFIED:20230420T094354Z
UID:10000430-1783641600-1783727999@texposition.org
SUMMARY:Clothing
DESCRIPTION:A Fashion Passion every Friday
URL:https://texposition.org/event/clothing/2026-07-10/
ATTACH;FMTTYPE=image/jpeg:https://texposition.org/wp-content/uploads/2023/04/Scan-2-2a20fcd-scaled.jpeg
END:VEVENT
BEGIN:VEVENT
DTSTART;VALUE=DATE:20260711
DTEND;VALUE=DATE:20260712
DTSTAMP:20260423T160236
CREATED:20230420T093835Z
LAST-MODIFIED:20230420T094208Z
UID:10000169-1783728000-1783814399@texposition.org
SUMMARY:Robot Rodeo
DESCRIPTION:Check out the Robot Rodeo every Saturday.
URL:https://texposition.org/event/robot-rodeo/2026-07-11/
ATTACH;FMTTYPE=image/png:https://texposition.org/wp-content/uploads/2022/09/ROBOT-RODEO_text-01-d457ab6.png
END:VEVENT
BEGIN:VEVENT
DTSTART;VALUE=DATE:20260717
DTEND;VALUE=DATE:20260718
DTSTAMP:20260423T160236
CREATED:20230420T094243Z
LAST-MODIFIED:20230420T094354Z
UID:10000431-1784246400-1784332799@texposition.org
SUMMARY:Clothing
DESCRIPTION:A Fashion Passion every Friday
URL:https://texposition.org/event/clothing/2026-07-17/
ATTACH;FMTTYPE=image/jpeg:https://texposition.org/wp-content/uploads/2023/04/Scan-2-2a20fcd-scaled.jpeg
END:VEVENT
BEGIN:VEVENT
DTSTART;VALUE=DATE:20260718
DTEND;VALUE=DATE:20260719
DTSTAMP:20260423T160236
CREATED:20230420T093835Z
LAST-MODIFIED:20230420T094208Z
UID:10000170-1784332800-1784419199@texposition.org
SUMMARY:Robot Rodeo
DESCRIPTION:Check out the Robot Rodeo every Saturday.
URL:https://texposition.org/event/robot-rodeo/2026-07-18/
ATTACH;FMTTYPE=image/png:https://texposition.org/wp-content/uploads/2022/09/ROBOT-RODEO_text-01-d457ab6.png
END:VEVENT
BEGIN:VEVENT
DTSTART;VALUE=DATE:20260724
DTEND;VALUE=DATE:20260725
DTSTAMP:20260423T160236
CREATED:20230420T094243Z
LAST-MODIFIED:20230420T094354Z
UID:10000432-1784851200-1784937599@texposition.org
SUMMARY:Clothing
DESCRIPTION:A Fashion Passion every Friday
URL:https://texposition.org/event/clothing/2026-07-24/
ATTACH;FMTTYPE=image/jpeg:https://texposition.org/wp-content/uploads/2023/04/Scan-2-2a20fcd-scaled.jpeg
END:VEVENT
BEGIN:VEVENT
DTSTART;VALUE=DATE:20260725
DTEND;VALUE=DATE:20260726
DTSTAMP:20260423T160236
CREATED:20230420T093835Z
LAST-MODIFIED:20230420T094208Z
UID:10000171-1784937600-1785023999@texposition.org
SUMMARY:Robot Rodeo
DESCRIPTION:Check out the Robot Rodeo every Saturday.
URL:https://texposition.org/event/robot-rodeo/2026-07-25/
ATTACH;FMTTYPE=image/png:https://texposition.org/wp-content/uploads/2022/09/ROBOT-RODEO_text-01-d457ab6.png
END:VEVENT
BEGIN:VEVENT
DTSTART;VALUE=DATE:20260731
DTEND;VALUE=DATE:20260801
DTSTAMP:20260423T160236
CREATED:20230420T094243Z
LAST-MODIFIED:20230420T094354Z
UID:10000433-1785456000-1785542399@texposition.org
SUMMARY:Clothing
DESCRIPTION:A Fashion Passion every Friday
URL:https://texposition.org/event/clothing/2026-07-31/
ATTACH;FMTTYPE=image/jpeg:https://texposition.org/wp-content/uploads/2023/04/Scan-2-2a20fcd-scaled.jpeg
END:VEVENT
END:VCALENDAR