BEGIN:VCALENDAR
VERSION:2.0
PRODID:-//TEXPOSITION® - ECPv6.15.20//NONSGML v1.0//EN
CALSCALE:GREGORIAN
METHOD:PUBLISH
X-ORIGINAL-URL:https://texposition.org
X-WR-CALDESC:Events for TEXPOSITION®
REFRESH-INTERVAL;VALUE=DURATION:PT1H
X-Robots-Tag:noindex
X-PUBLISHED-TTL:PT1H
BEGIN:VTIMEZONE
TZID:America/New_York
BEGIN:DAYLIGHT
TZOFFSETFROM:-0500
TZOFFSETTO:-0400
TZNAME:EDT
DTSTART:20250309T070000
END:DAYLIGHT
BEGIN:STANDARD
TZOFFSETFROM:-0400
TZOFFSETTO:-0500
TZNAME:EST
DTSTART:20251102T060000
END:STANDARD
BEGIN:DAYLIGHT
TZOFFSETFROM:-0500
TZOFFSETTO:-0400
TZNAME:EDT
DTSTART:20260308T070000
END:DAYLIGHT
BEGIN:STANDARD
TZOFFSETFROM:-0400
TZOFFSETTO:-0500
TZNAME:EST
DTSTART:20261101T060000
END:STANDARD
BEGIN:DAYLIGHT
TZOFFSETFROM:-0500
TZOFFSETTO:-0400
TZNAME:EDT
DTSTART:20270314T070000
END:DAYLIGHT
BEGIN:STANDARD
TZOFFSETFROM:-0400
TZOFFSETTO:-0500
TZNAME:EST
DTSTART:20271107T060000
END:STANDARD
END:VTIMEZONE
BEGIN:VEVENT
DTSTART;VALUE=DATE:20260501
DTEND;VALUE=DATE:20260502
DTSTAMP:20260423T124215
CREATED:20230420T094243Z
LAST-MODIFIED:20230420T094354Z
UID:10000420-1777593600-1777679999@texposition.org
SUMMARY:Clothing
DESCRIPTION:A Fashion Passion every Friday
URL:https://texposition.org/event/clothing/2026-05-01/
ATTACH;FMTTYPE=image/jpeg:https://texposition.org/wp-content/uploads/2023/04/Scan-2-2a20fcd-scaled.jpeg
END:VEVENT
BEGIN:VEVENT
DTSTART;VALUE=DATE:20260502
DTEND;VALUE=DATE:20260503
DTSTAMP:20260423T124215
CREATED:20230420T093835Z
LAST-MODIFIED:20230420T094208Z
UID:10000159-1777680000-1777766399@texposition.org
SUMMARY:Robot Rodeo
DESCRIPTION:Check out the Robot Rodeo every Saturday.
URL:https://texposition.org/event/robot-rodeo/2026-05-02/
ATTACH;FMTTYPE=image/png:https://texposition.org/wp-content/uploads/2022/09/ROBOT-RODEO_text-01-d457ab6.png
END:VEVENT
BEGIN:VEVENT
DTSTART;VALUE=DATE:20260508
DTEND;VALUE=DATE:20260509
DTSTAMP:20260423T124215
CREATED:20230420T094243Z
LAST-MODIFIED:20230420T094354Z
UID:10000421-1778198400-1778284799@texposition.org
SUMMARY:Clothing
DESCRIPTION:A Fashion Passion every Friday
URL:https://texposition.org/event/clothing/2026-05-08/
ATTACH;FMTTYPE=image/jpeg:https://texposition.org/wp-content/uploads/2023/04/Scan-2-2a20fcd-scaled.jpeg
END:VEVENT
BEGIN:VEVENT
DTSTART;VALUE=DATE:20260509
DTEND;VALUE=DATE:20260510
DTSTAMP:20260423T124215
CREATED:20230420T093835Z
LAST-MODIFIED:20230420T094208Z
UID:10000160-1778284800-1778371199@texposition.org
SUMMARY:Robot Rodeo
DESCRIPTION:Check out the Robot Rodeo every Saturday.
URL:https://texposition.org/event/robot-rodeo/2026-05-09/
ATTACH;FMTTYPE=image/png:https://texposition.org/wp-content/uploads/2022/09/ROBOT-RODEO_text-01-d457ab6.png
END:VEVENT
BEGIN:VEVENT
DTSTART;VALUE=DATE:20260515
DTEND;VALUE=DATE:20260516
DTSTAMP:20260423T124215
CREATED:20230420T094243Z
LAST-MODIFIED:20230420T094354Z
UID:10000422-1778803200-1778889599@texposition.org
SUMMARY:Clothing
DESCRIPTION:A Fashion Passion every Friday
URL:https://texposition.org/event/clothing/2026-05-15/
ATTACH;FMTTYPE=image/jpeg:https://texposition.org/wp-content/uploads/2023/04/Scan-2-2a20fcd-scaled.jpeg
END:VEVENT
BEGIN:VEVENT
DTSTART;VALUE=DATE:20260516
DTEND;VALUE=DATE:20260517
DTSTAMP:20260423T124215
CREATED:20230420T093835Z
LAST-MODIFIED:20230420T094208Z
UID:10000161-1778889600-1778975999@texposition.org
SUMMARY:Robot Rodeo
DESCRIPTION:Check out the Robot Rodeo every Saturday.
URL:https://texposition.org/event/robot-rodeo/2026-05-16/
ATTACH;FMTTYPE=image/png:https://texposition.org/wp-content/uploads/2022/09/ROBOT-RODEO_text-01-d457ab6.png
END:VEVENT
BEGIN:VEVENT
DTSTART;VALUE=DATE:20260522
DTEND;VALUE=DATE:20260523
DTSTAMP:20260423T124215
CREATED:20230420T094243Z
LAST-MODIFIED:20230420T094354Z
UID:10000423-1779408000-1779494399@texposition.org
SUMMARY:Clothing
DESCRIPTION:A Fashion Passion every Friday
URL:https://texposition.org/event/clothing/2026-05-22/
ATTACH;FMTTYPE=image/jpeg:https://texposition.org/wp-content/uploads/2023/04/Scan-2-2a20fcd-scaled.jpeg
END:VEVENT
BEGIN:VEVENT
DTSTART;VALUE=DATE:20260523
DTEND;VALUE=DATE:20260524
DTSTAMP:20260423T124215
CREATED:20230420T093835Z
LAST-MODIFIED:20230420T094208Z
UID:10000162-1779494400-1779580799@texposition.org
SUMMARY:Robot Rodeo
DESCRIPTION:Check out the Robot Rodeo every Saturday.
URL:https://texposition.org/event/robot-rodeo/2026-05-23/
ATTACH;FMTTYPE=image/png:https://texposition.org/wp-content/uploads/2022/09/ROBOT-RODEO_text-01-d457ab6.png
END:VEVENT
BEGIN:VEVENT
DTSTART;VALUE=DATE:20260529
DTEND;VALUE=DATE:20260530
DTSTAMP:20260423T124215
CREATED:20230420T094243Z
LAST-MODIFIED:20230420T094354Z
UID:10000424-1780012800-1780099199@texposition.org
SUMMARY:Clothing
DESCRIPTION:A Fashion Passion every Friday
URL:https://texposition.org/event/clothing/2026-05-29/
ATTACH;FMTTYPE=image/jpeg:https://texposition.org/wp-content/uploads/2023/04/Scan-2-2a20fcd-scaled.jpeg
END:VEVENT
BEGIN:VEVENT
DTSTART;VALUE=DATE:20260530
DTEND;VALUE=DATE:20260531
DTSTAMP:20260423T124215
CREATED:20230420T093835Z
LAST-MODIFIED:20230420T094208Z
UID:10000163-1780099200-1780185599@texposition.org
SUMMARY:Robot Rodeo
DESCRIPTION:Check out the Robot Rodeo every Saturday.
URL:https://texposition.org/event/robot-rodeo/2026-05-30/
ATTACH;FMTTYPE=image/png:https://texposition.org/wp-content/uploads/2022/09/ROBOT-RODEO_text-01-d457ab6.png
END:VEVENT
END:VCALENDAR