BEGIN:VCALENDAR
VERSION:2.0
PRODID:-//TEXPOSITION® - ECPv6.15.20//NONSGML v1.0//EN
CALSCALE:GREGORIAN
METHOD:PUBLISH
X-ORIGINAL-URL:https://texposition.org
X-WR-CALDESC:Events for TEXPOSITION®
REFRESH-INTERVAL;VALUE=DURATION:PT1H
X-Robots-Tag:noindex
X-PUBLISHED-TTL:PT1H
BEGIN:VTIMEZONE
TZID:America/New_York
BEGIN:DAYLIGHT
TZOFFSETFROM:-0500
TZOFFSETTO:-0400
TZNAME:EDT
DTSTART:20250309T070000
END:DAYLIGHT
BEGIN:STANDARD
TZOFFSETFROM:-0400
TZOFFSETTO:-0500
TZNAME:EST
DTSTART:20251102T060000
END:STANDARD
BEGIN:DAYLIGHT
TZOFFSETFROM:-0500
TZOFFSETTO:-0400
TZNAME:EDT
DTSTART:20260308T070000
END:DAYLIGHT
BEGIN:STANDARD
TZOFFSETFROM:-0400
TZOFFSETTO:-0500
TZNAME:EST
DTSTART:20261101T060000
END:STANDARD
BEGIN:DAYLIGHT
TZOFFSETFROM:-0500
TZOFFSETTO:-0400
TZNAME:EDT
DTSTART:20270314T070000
END:DAYLIGHT
BEGIN:STANDARD
TZOFFSETFROM:-0400
TZOFFSETTO:-0500
TZNAME:EST
DTSTART:20271107T060000
END:STANDARD
END:VTIMEZONE
BEGIN:VEVENT
DTSTART;VALUE=DATE:20260306
DTEND;VALUE=DATE:20260307
DTSTAMP:20260423T124213
CREATED:20230420T094243Z
LAST-MODIFIED:20230420T094354Z
UID:10000412-1772755200-1772841599@texposition.org
SUMMARY:Clothing
DESCRIPTION:A Fashion Passion every Friday
URL:https://texposition.org/event/clothing/2026-03-06/
ATTACH;FMTTYPE=image/jpeg:https://texposition.org/wp-content/uploads/2023/04/Scan-2-2a20fcd-scaled.jpeg
END:VEVENT
BEGIN:VEVENT
DTSTART;VALUE=DATE:20260307
DTEND;VALUE=DATE:20260308
DTSTAMP:20260423T124213
CREATED:20230420T093835Z
LAST-MODIFIED:20230420T094208Z
UID:10000151-1772841600-1772927999@texposition.org
SUMMARY:Robot Rodeo
DESCRIPTION:Check out the Robot Rodeo every Saturday.
URL:https://texposition.org/event/robot-rodeo/2026-03-07/
ATTACH;FMTTYPE=image/png:https://texposition.org/wp-content/uploads/2022/09/ROBOT-RODEO_text-01-d457ab6.png
END:VEVENT
BEGIN:VEVENT
DTSTART;VALUE=DATE:20260313
DTEND;VALUE=DATE:20260314
DTSTAMP:20260423T124213
CREATED:20230420T094243Z
LAST-MODIFIED:20230420T094354Z
UID:10000413-1773360000-1773446399@texposition.org
SUMMARY:Clothing
DESCRIPTION:A Fashion Passion every Friday
URL:https://texposition.org/event/clothing/2026-03-13/
ATTACH;FMTTYPE=image/jpeg:https://texposition.org/wp-content/uploads/2023/04/Scan-2-2a20fcd-scaled.jpeg
END:VEVENT
BEGIN:VEVENT
DTSTART;VALUE=DATE:20260314
DTEND;VALUE=DATE:20260315
DTSTAMP:20260423T124213
CREATED:20230420T093835Z
LAST-MODIFIED:20230420T094208Z
UID:10000152-1773446400-1773532799@texposition.org
SUMMARY:Robot Rodeo
DESCRIPTION:Check out the Robot Rodeo every Saturday.
URL:https://texposition.org/event/robot-rodeo/2026-03-14/
ATTACH;FMTTYPE=image/png:https://texposition.org/wp-content/uploads/2022/09/ROBOT-RODEO_text-01-d457ab6.png
END:VEVENT
BEGIN:VEVENT
DTSTART;VALUE=DATE:20260320
DTEND;VALUE=DATE:20260321
DTSTAMP:20260423T124213
CREATED:20230420T094243Z
LAST-MODIFIED:20230420T094354Z
UID:10000414-1773964800-1774051199@texposition.org
SUMMARY:Clothing
DESCRIPTION:A Fashion Passion every Friday
URL:https://texposition.org/event/clothing/2026-03-20/
ATTACH;FMTTYPE=image/jpeg:https://texposition.org/wp-content/uploads/2023/04/Scan-2-2a20fcd-scaled.jpeg
END:VEVENT
BEGIN:VEVENT
DTSTART;VALUE=DATE:20260321
DTEND;VALUE=DATE:20260322
DTSTAMP:20260423T124213
CREATED:20230420T093835Z
LAST-MODIFIED:20230420T094208Z
UID:10000153-1774051200-1774137599@texposition.org
SUMMARY:Robot Rodeo
DESCRIPTION:Check out the Robot Rodeo every Saturday.
URL:https://texposition.org/event/robot-rodeo/2026-03-21/
ATTACH;FMTTYPE=image/png:https://texposition.org/wp-content/uploads/2022/09/ROBOT-RODEO_text-01-d457ab6.png
END:VEVENT
BEGIN:VEVENT
DTSTART;VALUE=DATE:20260327
DTEND;VALUE=DATE:20260328
DTSTAMP:20260423T124213
CREATED:20230420T094243Z
LAST-MODIFIED:20230420T094354Z
UID:10000415-1774569600-1774655999@texposition.org
SUMMARY:Clothing
DESCRIPTION:A Fashion Passion every Friday
URL:https://texposition.org/event/clothing/2026-03-27/
ATTACH;FMTTYPE=image/jpeg:https://texposition.org/wp-content/uploads/2023/04/Scan-2-2a20fcd-scaled.jpeg
END:VEVENT
BEGIN:VEVENT
DTSTART;VALUE=DATE:20260328
DTEND;VALUE=DATE:20260329
DTSTAMP:20260423T124213
CREATED:20230420T093835Z
LAST-MODIFIED:20230420T094208Z
UID:10000154-1774656000-1774742399@texposition.org
SUMMARY:Robot Rodeo
DESCRIPTION:Check out the Robot Rodeo every Saturday.
URL:https://texposition.org/event/robot-rodeo/2026-03-28/
ATTACH;FMTTYPE=image/png:https://texposition.org/wp-content/uploads/2022/09/ROBOT-RODEO_text-01-d457ab6.png
END:VEVENT
END:VCALENDAR