BEGIN:VCALENDAR
VERSION:2.0
PRODID:-//TEXPOSITION® - ECPv6.15.20//NONSGML v1.0//EN
CALSCALE:GREGORIAN
METHOD:PUBLISH
X-WR-CALNAME:TEXPOSITION®
X-ORIGINAL-URL:https://texposition.org
X-WR-CALDESC:Events for TEXPOSITION®
REFRESH-INTERVAL;VALUE=DURATION:PT1H
X-Robots-Tag:noindex
X-PUBLISHED-TTL:PT1H
BEGIN:VTIMEZONE
TZID:America/New_York
BEGIN:DAYLIGHT
TZOFFSETFROM:-0500
TZOFFSETTO:-0400
TZNAME:EDT
DTSTART:20240310T070000
END:DAYLIGHT
BEGIN:STANDARD
TZOFFSETFROM:-0400
TZOFFSETTO:-0500
TZNAME:EST
DTSTART:20241103T060000
END:STANDARD
BEGIN:DAYLIGHT
TZOFFSETFROM:-0500
TZOFFSETTO:-0400
TZNAME:EDT
DTSTART:20250309T070000
END:DAYLIGHT
BEGIN:STANDARD
TZOFFSETFROM:-0400
TZOFFSETTO:-0500
TZNAME:EST
DTSTART:20251102T060000
END:STANDARD
BEGIN:DAYLIGHT
TZOFFSETFROM:-0500
TZOFFSETTO:-0400
TZNAME:EDT
DTSTART:20260308T070000
END:DAYLIGHT
BEGIN:STANDARD
TZOFFSETFROM:-0400
TZOFFSETTO:-0500
TZNAME:EST
DTSTART:20261101T060000
END:STANDARD
END:VTIMEZONE
BEGIN:VEVENT
DTSTART;VALUE=DATE:20251205
DTEND;VALUE=DATE:20251206
DTSTAMP:20260423T190658
CREATED:20230420T094243Z
LAST-MODIFIED:20230420T094354Z
UID:10000399-1764892800-1764979199@texposition.org
SUMMARY:Clothing
DESCRIPTION:A Fashion Passion every Friday
URL:https://texposition.org/event/clothing/2025-12-05/
ATTACH;FMTTYPE=image/jpeg:https://texposition.org/wp-content/uploads/2023/04/Scan-2-2a20fcd-scaled.jpeg
END:VEVENT
BEGIN:VEVENT
DTSTART;VALUE=DATE:20251206
DTEND;VALUE=DATE:20251207
DTSTAMP:20260423T190658
CREATED:20230420T093835Z
LAST-MODIFIED:20230420T094208Z
UID:10000138-1764979200-1765065599@texposition.org
SUMMARY:Robot Rodeo
DESCRIPTION:Check out the Robot Rodeo every Saturday.
URL:https://texposition.org/event/robot-rodeo/2025-12-06/
ATTACH;FMTTYPE=image/png:https://texposition.org/wp-content/uploads/2022/09/ROBOT-RODEO_text-01-d457ab6.png
END:VEVENT
BEGIN:VEVENT
DTSTART;VALUE=DATE:20251212
DTEND;VALUE=DATE:20251213
DTSTAMP:20260423T190658
CREATED:20230420T094243Z
LAST-MODIFIED:20230420T094354Z
UID:10000400-1765497600-1765583999@texposition.org
SUMMARY:Clothing
DESCRIPTION:A Fashion Passion every Friday
URL:https://texposition.org/event/clothing/2025-12-12/
ATTACH;FMTTYPE=image/jpeg:https://texposition.org/wp-content/uploads/2023/04/Scan-2-2a20fcd-scaled.jpeg
END:VEVENT
BEGIN:VEVENT
DTSTART;VALUE=DATE:20251213
DTEND;VALUE=DATE:20251214
DTSTAMP:20260423T190658
CREATED:20230420T093835Z
LAST-MODIFIED:20230420T094208Z
UID:10000139-1765584000-1765670399@texposition.org
SUMMARY:Robot Rodeo
DESCRIPTION:Check out the Robot Rodeo every Saturday.
URL:https://texposition.org/event/robot-rodeo/2025-12-13/
ATTACH;FMTTYPE=image/png:https://texposition.org/wp-content/uploads/2022/09/ROBOT-RODEO_text-01-d457ab6.png
END:VEVENT
BEGIN:VEVENT
DTSTART;VALUE=DATE:20251219
DTEND;VALUE=DATE:20251220
DTSTAMP:20260423T190658
CREATED:20230420T094243Z
LAST-MODIFIED:20230420T094354Z
UID:10000401-1766102400-1766188799@texposition.org
SUMMARY:Clothing
DESCRIPTION:A Fashion Passion every Friday
URL:https://texposition.org/event/clothing/2025-12-19/
ATTACH;FMTTYPE=image/jpeg:https://texposition.org/wp-content/uploads/2023/04/Scan-2-2a20fcd-scaled.jpeg
END:VEVENT
BEGIN:VEVENT
DTSTART;VALUE=DATE:20251220
DTEND;VALUE=DATE:20251221
DTSTAMP:20260423T190658
CREATED:20230420T093835Z
LAST-MODIFIED:20230420T094208Z
UID:10000140-1766188800-1766275199@texposition.org
SUMMARY:Robot Rodeo
DESCRIPTION:Check out the Robot Rodeo every Saturday.
URL:https://texposition.org/event/robot-rodeo/2025-12-20/
ATTACH;FMTTYPE=image/png:https://texposition.org/wp-content/uploads/2022/09/ROBOT-RODEO_text-01-d457ab6.png
END:VEVENT
BEGIN:VEVENT
DTSTART;VALUE=DATE:20251226
DTEND;VALUE=DATE:20251227
DTSTAMP:20260423T190658
CREATED:20230420T094243Z
LAST-MODIFIED:20230420T094354Z
UID:10000402-1766707200-1766793599@texposition.org
SUMMARY:Clothing
DESCRIPTION:A Fashion Passion every Friday
URL:https://texposition.org/event/clothing/2025-12-26/
ATTACH;FMTTYPE=image/jpeg:https://texposition.org/wp-content/uploads/2023/04/Scan-2-2a20fcd-scaled.jpeg
END:VEVENT
BEGIN:VEVENT
DTSTART;VALUE=DATE:20251227
DTEND;VALUE=DATE:20251228
DTSTAMP:20260423T190658
CREATED:20230420T093835Z
LAST-MODIFIED:20230420T094208Z
UID:10000141-1766793600-1766879999@texposition.org
SUMMARY:Robot Rodeo
DESCRIPTION:Check out the Robot Rodeo every Saturday.
URL:https://texposition.org/event/robot-rodeo/2025-12-27/
ATTACH;FMTTYPE=image/png:https://texposition.org/wp-content/uploads/2022/09/ROBOT-RODEO_text-01-d457ab6.png
END:VEVENT
END:VCALENDAR